BEGIN:VCALENDAR
VERSION:2.0
PRODID:-//UDS//OSS v2.0//EN
BEGIN:VEVENT
UID:Hydraulic_Design_of_Fish-_Friendly_Standard_Box_Culvert@payments.uq.edu.au
DTSTAMP:20190228T165559Z
LOCATION:Advanced Engineering Building (AEB) #49 , St Lucia
DTSTART:20190603T000000
DTEND:20190604T000000
SUMMARY:Hydraulic Design of Fish- Friendly Standard Box Culvert
END:VEVENT
END:VCALENDAR